BEGIN:VCALENDAR
VERSION:2.0
PRODID:-//Zinnschmelze - ECPv6.15.20//NONSGML v1.0//EN
CALSCALE:GREGORIAN
METHOD:PUBLISH
X-ORIGINAL-URL:https://dev.zinnschmelze.de
X-WR-CALDESC:Veranstaltungen für Zinnschmelze
REFRESH-INTERVAL;VALUE=DURATION:PT1H
X-Robots-Tag:noindex
X-PUBLISHED-TTL:PT1H
BEGIN:VTIMEZONE
TZID:Europe/Berlin
BEGIN:DAYLIGHT
TZOFFSETFROM:+0100
TZOFFSETTO:+0200
TZNAME:CEST
DTSTART:20270328T010000
END:DAYLIGHT
BEGIN:STANDARD
TZOFFSETFROM:+0200
TZOFFSETTO:+0100
TZNAME:CET
DTSTART:20271031T010000
END:STANDARD
BEGIN:DAYLIGHT
TZOFFSETFROM:+0100
TZOFFSETTO:+0200
TZNAME:CEST
DTSTART:20280326T010000
END:DAYLIGHT
BEGIN:STANDARD
TZOFFSETFROM:+0200
TZOFFSETTO:+0100
TZNAME:CET
DTSTART:20281029T010000
END:STANDARD
BEGIN:DAYLIGHT
TZOFFSETFROM:+0100
TZOFFSETTO:+0200
TZNAME:CEST
DTSTART:20290325T010000
END:DAYLIGHT
BEGIN:STANDARD
TZOFFSETFROM:+0200
TZOFFSETTO:+0100
TZNAME:CET
DTSTART:20291028T010000
END:STANDARD
END:VTIMEZONE
BEGIN:VEVENT
DTSTART;TZID=Europe/Berlin:20280306T170000
DTEND;TZID=Europe/Berlin:20280306T180000
DTSTAMP:20260423T101557
CREATED:20240828T140948Z
LAST-MODIFIED:20240828T141248Z
UID:10003665-1835974800-1835978400@dev.zinnschmelze.de
SUMMARY:Kinderchor Happy musikidZ
DESCRIPTION:Hast du Spaß am gemeinsamen Singen und Musizieren?\n\nKönntest du dir vorstellen\, auch mal auf einer größeren Bühne zu stehen? \nBist du zudem zwischen 5 und 10 Jahre alt? \n  \nDann schau doch mal bei uns vorbei! \nIm Zinnschmelze-Kinderchor geht es um Spaß und Fantasie. Wir laden dich ein\, um gemeinsam zu singen\, uns auszutauschen und Freundschaften zu schließen. Bei uns werden sowohl „alte“ Volkslieder\, als auch moderne und internationale\, fremdsprachige Lieder gesungen. \nDen Chor leitet Daniel Haller. Daniel ist Komponist und Musiker und gibt Unterricht für Schlagzeug\, Percussion\, Gesang\, Klavier und Akkordeon. \nMonatsbeitrag: 20\,- € | erm.-15\,- € | kostenlose Teilnahme für Empfängerinnen von Leistungen SGB II\, SGB XII\, AsylbLG . \nEine kostenlose Probestunde ist  jederzeit möglich. Einsteigen kann jedes Kind. \nWeitere Infos unter – https://dev.zinnschmelze.de/anmeldungen/ \n040-231 885 58 oder kurse@zinnschmelze.de Die Happy MusiKidz freuen sich auf dich! \nGefördert durch Feline Holidays
URL:https://dev.zinnschmelze.de/event/kinderchor-happy-musikidz-2/2028-03-06/
LOCATION:Zinnschmelze\, Maurienstr. 19\, Barmbek\, Hamburg\, 22305\, Germany
CATEGORIES:Gesang (Kinderkurs),Kinder (Kurse),Musik (Kinderkurs)
ATTACH;FMTTYPE=image/jpeg:https://dev.zinnschmelze.de/wp-content/uploads/2020/01/7.jpg
ORGANIZER;CN="Zinnschmelze":MAILTO:info@zinnschmelze.de
END:VEVENT
BEGIN:VEVENT
DTSTART;TZID=Europe/Berlin:20280313T170000
DTEND;TZID=Europe/Berlin:20280313T180000
DTSTAMP:20260423T101557
CREATED:20240828T140948Z
LAST-MODIFIED:20240828T141248Z
UID:10003666-1836579600-1836583200@dev.zinnschmelze.de
SUMMARY:Kinderchor Happy musikidZ
DESCRIPTION:Hast du Spaß am gemeinsamen Singen und Musizieren?\n\nKönntest du dir vorstellen\, auch mal auf einer größeren Bühne zu stehen? \nBist du zudem zwischen 5 und 10 Jahre alt? \n  \nDann schau doch mal bei uns vorbei! \nIm Zinnschmelze-Kinderchor geht es um Spaß und Fantasie. Wir laden dich ein\, um gemeinsam zu singen\, uns auszutauschen und Freundschaften zu schließen. Bei uns werden sowohl „alte“ Volkslieder\, als auch moderne und internationale\, fremdsprachige Lieder gesungen. \nDen Chor leitet Daniel Haller. Daniel ist Komponist und Musiker und gibt Unterricht für Schlagzeug\, Percussion\, Gesang\, Klavier und Akkordeon. \nMonatsbeitrag: 20\,- € | erm.-15\,- € | kostenlose Teilnahme für Empfängerinnen von Leistungen SGB II\, SGB XII\, AsylbLG . \nEine kostenlose Probestunde ist  jederzeit möglich. Einsteigen kann jedes Kind. \nWeitere Infos unter – https://dev.zinnschmelze.de/anmeldungen/ \n040-231 885 58 oder kurse@zinnschmelze.de Die Happy MusiKidz freuen sich auf dich! \nGefördert durch Feline Holidays
URL:https://dev.zinnschmelze.de/event/kinderchor-happy-musikidz-2/2028-03-13/
LOCATION:Zinnschmelze\, Maurienstr. 19\, Barmbek\, Hamburg\, 22305\, Germany
CATEGORIES:Gesang (Kinderkurs),Kinder (Kurse),Musik (Kinderkurs)
ATTACH;FMTTYPE=image/jpeg:https://dev.zinnschmelze.de/wp-content/uploads/2020/01/7.jpg
ORGANIZER;CN="Zinnschmelze":MAILTO:info@zinnschmelze.de
END:VEVENT
BEGIN:VEVENT
DTSTART;TZID=Europe/Berlin:20280320T170000
DTEND;TZID=Europe/Berlin:20280320T180000
DTSTAMP:20260423T101557
CREATED:20240828T140948Z
LAST-MODIFIED:20240828T141248Z
UID:10003667-1837184400-1837188000@dev.zinnschmelze.de
SUMMARY:Kinderchor Happy musikidZ
DESCRIPTION:Hast du Spaß am gemeinsamen Singen und Musizieren?\n\nKönntest du dir vorstellen\, auch mal auf einer größeren Bühne zu stehen? \nBist du zudem zwischen 5 und 10 Jahre alt? \n  \nDann schau doch mal bei uns vorbei! \nIm Zinnschmelze-Kinderchor geht es um Spaß und Fantasie. Wir laden dich ein\, um gemeinsam zu singen\, uns auszutauschen und Freundschaften zu schließen. Bei uns werden sowohl „alte“ Volkslieder\, als auch moderne und internationale\, fremdsprachige Lieder gesungen. \nDen Chor leitet Daniel Haller. Daniel ist Komponist und Musiker und gibt Unterricht für Schlagzeug\, Percussion\, Gesang\, Klavier und Akkordeon. \nMonatsbeitrag: 20\,- € | erm.-15\,- € | kostenlose Teilnahme für Empfängerinnen von Leistungen SGB II\, SGB XII\, AsylbLG . \nEine kostenlose Probestunde ist  jederzeit möglich. Einsteigen kann jedes Kind. \nWeitere Infos unter – https://dev.zinnschmelze.de/anmeldungen/ \n040-231 885 58 oder kurse@zinnschmelze.de Die Happy MusiKidz freuen sich auf dich! \nGefördert durch Feline Holidays
URL:https://dev.zinnschmelze.de/event/kinderchor-happy-musikidz-2/2028-03-20/
LOCATION:Zinnschmelze\, Maurienstr. 19\, Barmbek\, Hamburg\, 22305\, Germany
CATEGORIES:Gesang (Kinderkurs),Kinder (Kurse),Musik (Kinderkurs)
ATTACH;FMTTYPE=image/jpeg:https://dev.zinnschmelze.de/wp-content/uploads/2020/01/7.jpg
ORGANIZER;CN="Zinnschmelze":MAILTO:info@zinnschmelze.de
END:VEVENT
BEGIN:VEVENT
DTSTART;TZID=Europe/Berlin:20280327T170000
DTEND;TZID=Europe/Berlin:20280327T180000
DTSTAMP:20260423T101557
CREATED:20240828T140948Z
LAST-MODIFIED:20240828T141248Z
UID:10003668-1837789200-1837792800@dev.zinnschmelze.de
SUMMARY:Kinderchor Happy musikidZ
DESCRIPTION:Hast du Spaß am gemeinsamen Singen und Musizieren?\n\nKönntest du dir vorstellen\, auch mal auf einer größeren Bühne zu stehen? \nBist du zudem zwischen 5 und 10 Jahre alt? \n  \nDann schau doch mal bei uns vorbei! \nIm Zinnschmelze-Kinderchor geht es um Spaß und Fantasie. Wir laden dich ein\, um gemeinsam zu singen\, uns auszutauschen und Freundschaften zu schließen. Bei uns werden sowohl „alte“ Volkslieder\, als auch moderne und internationale\, fremdsprachige Lieder gesungen. \nDen Chor leitet Daniel Haller. Daniel ist Komponist und Musiker und gibt Unterricht für Schlagzeug\, Percussion\, Gesang\, Klavier und Akkordeon. \nMonatsbeitrag: 20\,- € | erm.-15\,- € | kostenlose Teilnahme für Empfängerinnen von Leistungen SGB II\, SGB XII\, AsylbLG . \nEine kostenlose Probestunde ist  jederzeit möglich. Einsteigen kann jedes Kind. \nWeitere Infos unter – https://dev.zinnschmelze.de/anmeldungen/ \n040-231 885 58 oder kurse@zinnschmelze.de Die Happy MusiKidz freuen sich auf dich! \nGefördert durch Feline Holidays
URL:https://dev.zinnschmelze.de/event/kinderchor-happy-musikidz-2/2028-03-27/
LOCATION:Zinnschmelze\, Maurienstr. 19\, Barmbek\, Hamburg\, 22305\, Germany
CATEGORIES:Gesang (Kinderkurs),Kinder (Kurse),Musik (Kinderkurs)
ATTACH;FMTTYPE=image/jpeg:https://dev.zinnschmelze.de/wp-content/uploads/2020/01/7.jpg
ORGANIZER;CN="Zinnschmelze":MAILTO:info@zinnschmelze.de
END:VEVENT
END:VCALENDAR