BEGIN:VCALENDAR
VERSION:2.0
PRODID:-//Zinnschmelze - ECPv6.15.20//NONSGML v1.0//EN
CALSCALE:GREGORIAN
METHOD:PUBLISH
X-ORIGINAL-URL:https://dev.zinnschmelze.de
X-WR-CALDESC:Veranstaltungen für Zinnschmelze
REFRESH-INTERVAL;VALUE=DURATION:PT1H
X-Robots-Tag:noindex
X-PUBLISHED-TTL:PT1H
BEGIN:VTIMEZONE
TZID:Europe/Berlin
BEGIN:DAYLIGHT
TZOFFSETFROM:+0100
TZOFFSETTO:+0200
TZNAME:CEST
DTSTART:20270328T010000
END:DAYLIGHT
BEGIN:STANDARD
TZOFFSETFROM:+0200
TZOFFSETTO:+0100
TZNAME:CET
DTSTART:20271031T010000
END:STANDARD
BEGIN:DAYLIGHT
TZOFFSETFROM:+0100
TZOFFSETTO:+0200
TZNAME:CEST
DTSTART:20280326T010000
END:DAYLIGHT
BEGIN:STANDARD
TZOFFSETFROM:+0200
TZOFFSETTO:+0100
TZNAME:CET
DTSTART:20281029T010000
END:STANDARD
BEGIN:DAYLIGHT
TZOFFSETFROM:+0100
TZOFFSETTO:+0200
TZNAME:CEST
DTSTART:20290325T010000
END:DAYLIGHT
BEGIN:STANDARD
TZOFFSETFROM:+0200
TZOFFSETTO:+0100
TZNAME:CET
DTSTART:20291028T010000
END:STANDARD
END:VTIMEZONE
BEGIN:VEVENT
DTSTART;TZID=Europe/Berlin:20280201T191500
DTEND;TZID=Europe/Berlin:20280201T220000
DTSTAMP:20260424T182539
CREATED:20230621T144919Z
LAST-MODIFIED:20230825T155941Z
UID:10006378-1833045300-1833055200@dev.zinnschmelze.de
SUMMARY:Tango argentino - mit Xperience Tango
DESCRIPTION:LOGO Xperience Tango \nDu wolltest schon immer einmal Tango Argentino ausprobieren? Gemeinsam mit einem Partner oder auch alleine?\nMit Spaß und Leichtigkeit vermittelt Dir das Team von Xperience Tango die Grundlagen des Tango Argentino\, so dass Du bald auf einer der zahlreichen Milongas (Tangobälle) Hamburgs tanzen gehen kannst. Wir arbeiten an Körperhaltung\, Umarmung\, Tanztechnik und Musikalität. Als Basis jeder gemeinsamen Kreativität fokussieren wir den achtsamen Kontakt und die nonverbale Kommunikation mit dem Partner. \nSämtliche Infos über alle unsere Kurse findet Ihr hier: www.xperience-tango.de \nDie aktuellen Angebote für Schnupperkurse findest Du hier: https://www.xperience-tango.de/tango-hamburg-schnupperkurs \nDen geplanten Anfängerkurs findest Du hier: https://www.xperience-tango.de/tango-hamburg-ost \nAnmeldung: info@xperience-tango.de | 0176 23934109\nPreis: Schnupperkurs 15 €  / 10 € erm.) | Fortlaufende Kurse: abhängig von der Teilnehmerzahl. Bei mind. 7 Paaren: 15€/Einheit
URL:https://dev.zinnschmelze.de/event/tango-argentino-mit-xperience-tango/2028-02-01/
LOCATION:Zinnschmelze\, Maurienstr. 19\, Barmbek\, Hamburg\, 22305\, Germany
CATEGORIES:Bewegung & Gesundheit (Erwachsenenkurs),Musik (Erwachsenenkurs),Tanz (Erwachsenenkurs)
ATTACH;FMTTYPE=image/jpeg:https://dev.zinnschmelze.de/wp-content/uploads/2023/06/LOGO-Xperience-Tango.jpg
ORGANIZER;CN="Xperience Tango":MAILTO:info@xperience-tango.de
END:VEVENT
BEGIN:VEVENT
DTSTART;TZID=Europe/Berlin:20280208T191500
DTEND;TZID=Europe/Berlin:20280208T220000
DTSTAMP:20260424T182539
CREATED:20230621T144919Z
LAST-MODIFIED:20230825T155941Z
UID:10006379-1833650100-1833660000@dev.zinnschmelze.de
SUMMARY:Tango argentino - mit Xperience Tango
DESCRIPTION:LOGO Xperience Tango \nDu wolltest schon immer einmal Tango Argentino ausprobieren? Gemeinsam mit einem Partner oder auch alleine?\nMit Spaß und Leichtigkeit vermittelt Dir das Team von Xperience Tango die Grundlagen des Tango Argentino\, so dass Du bald auf einer der zahlreichen Milongas (Tangobälle) Hamburgs tanzen gehen kannst. Wir arbeiten an Körperhaltung\, Umarmung\, Tanztechnik und Musikalität. Als Basis jeder gemeinsamen Kreativität fokussieren wir den achtsamen Kontakt und die nonverbale Kommunikation mit dem Partner. \nSämtliche Infos über alle unsere Kurse findet Ihr hier: www.xperience-tango.de \nDie aktuellen Angebote für Schnupperkurse findest Du hier: https://www.xperience-tango.de/tango-hamburg-schnupperkurs \nDen geplanten Anfängerkurs findest Du hier: https://www.xperience-tango.de/tango-hamburg-ost \nAnmeldung: info@xperience-tango.de | 0176 23934109\nPreis: Schnupperkurs 15 €  / 10 € erm.) | Fortlaufende Kurse: abhängig von der Teilnehmerzahl. Bei mind. 7 Paaren: 15€/Einheit
URL:https://dev.zinnschmelze.de/event/tango-argentino-mit-xperience-tango/2028-02-08/
LOCATION:Zinnschmelze\, Maurienstr. 19\, Barmbek\, Hamburg\, 22305\, Germany
CATEGORIES:Bewegung & Gesundheit (Erwachsenenkurs),Musik (Erwachsenenkurs),Tanz (Erwachsenenkurs)
ATTACH;FMTTYPE=image/jpeg:https://dev.zinnschmelze.de/wp-content/uploads/2023/06/LOGO-Xperience-Tango.jpg
ORGANIZER;CN="Xperience Tango":MAILTO:info@xperience-tango.de
END:VEVENT
BEGIN:VEVENT
DTSTART;TZID=Europe/Berlin:20280215T191500
DTEND;TZID=Europe/Berlin:20280215T220000
DTSTAMP:20260424T182539
CREATED:20230621T144919Z
LAST-MODIFIED:20230825T155941Z
UID:10006380-1834254900-1834264800@dev.zinnschmelze.de
SUMMARY:Tango argentino - mit Xperience Tango
DESCRIPTION:LOGO Xperience Tango \nDu wolltest schon immer einmal Tango Argentino ausprobieren? Gemeinsam mit einem Partner oder auch alleine?\nMit Spaß und Leichtigkeit vermittelt Dir das Team von Xperience Tango die Grundlagen des Tango Argentino\, so dass Du bald auf einer der zahlreichen Milongas (Tangobälle) Hamburgs tanzen gehen kannst. Wir arbeiten an Körperhaltung\, Umarmung\, Tanztechnik und Musikalität. Als Basis jeder gemeinsamen Kreativität fokussieren wir den achtsamen Kontakt und die nonverbale Kommunikation mit dem Partner. \nSämtliche Infos über alle unsere Kurse findet Ihr hier: www.xperience-tango.de \nDie aktuellen Angebote für Schnupperkurse findest Du hier: https://www.xperience-tango.de/tango-hamburg-schnupperkurs \nDen geplanten Anfängerkurs findest Du hier: https://www.xperience-tango.de/tango-hamburg-ost \nAnmeldung: info@xperience-tango.de | 0176 23934109\nPreis: Schnupperkurs 15 €  / 10 € erm.) | Fortlaufende Kurse: abhängig von der Teilnehmerzahl. Bei mind. 7 Paaren: 15€/Einheit
URL:https://dev.zinnschmelze.de/event/tango-argentino-mit-xperience-tango/2028-02-15/
LOCATION:Zinnschmelze\, Maurienstr. 19\, Barmbek\, Hamburg\, 22305\, Germany
CATEGORIES:Bewegung & Gesundheit (Erwachsenenkurs),Musik (Erwachsenenkurs),Tanz (Erwachsenenkurs)
ATTACH;FMTTYPE=image/jpeg:https://dev.zinnschmelze.de/wp-content/uploads/2023/06/LOGO-Xperience-Tango.jpg
ORGANIZER;CN="Xperience Tango":MAILTO:info@xperience-tango.de
END:VEVENT
BEGIN:VEVENT
DTSTART;TZID=Europe/Berlin:20280222T191500
DTEND;TZID=Europe/Berlin:20280222T220000
DTSTAMP:20260424T182539
CREATED:20230621T144919Z
LAST-MODIFIED:20230825T155941Z
UID:10006381-1834859700-1834869600@dev.zinnschmelze.de
SUMMARY:Tango argentino - mit Xperience Tango
DESCRIPTION:LOGO Xperience Tango \nDu wolltest schon immer einmal Tango Argentino ausprobieren? Gemeinsam mit einem Partner oder auch alleine?\nMit Spaß und Leichtigkeit vermittelt Dir das Team von Xperience Tango die Grundlagen des Tango Argentino\, so dass Du bald auf einer der zahlreichen Milongas (Tangobälle) Hamburgs tanzen gehen kannst. Wir arbeiten an Körperhaltung\, Umarmung\, Tanztechnik und Musikalität. Als Basis jeder gemeinsamen Kreativität fokussieren wir den achtsamen Kontakt und die nonverbale Kommunikation mit dem Partner. \nSämtliche Infos über alle unsere Kurse findet Ihr hier: www.xperience-tango.de \nDie aktuellen Angebote für Schnupperkurse findest Du hier: https://www.xperience-tango.de/tango-hamburg-schnupperkurs \nDen geplanten Anfängerkurs findest Du hier: https://www.xperience-tango.de/tango-hamburg-ost \nAnmeldung: info@xperience-tango.de | 0176 23934109\nPreis: Schnupperkurs 15 €  / 10 € erm.) | Fortlaufende Kurse: abhängig von der Teilnehmerzahl. Bei mind. 7 Paaren: 15€/Einheit
URL:https://dev.zinnschmelze.de/event/tango-argentino-mit-xperience-tango/2028-02-22/
LOCATION:Zinnschmelze\, Maurienstr. 19\, Barmbek\, Hamburg\, 22305\, Germany
CATEGORIES:Bewegung & Gesundheit (Erwachsenenkurs),Musik (Erwachsenenkurs),Tanz (Erwachsenenkurs)
ATTACH;FMTTYPE=image/jpeg:https://dev.zinnschmelze.de/wp-content/uploads/2023/06/LOGO-Xperience-Tango.jpg
ORGANIZER;CN="Xperience Tango":MAILTO:info@xperience-tango.de
END:VEVENT
BEGIN:VEVENT
DTSTART;TZID=Europe/Berlin:20280229T191500
DTEND;TZID=Europe/Berlin:20280229T220000
DTSTAMP:20260424T182539
CREATED:20230621T144919Z
LAST-MODIFIED:20230825T155941Z
UID:10006382-1835464500-1835474400@dev.zinnschmelze.de
SUMMARY:Tango argentino - mit Xperience Tango
DESCRIPTION:LOGO Xperience Tango \nDu wolltest schon immer einmal Tango Argentino ausprobieren? Gemeinsam mit einem Partner oder auch alleine?\nMit Spaß und Leichtigkeit vermittelt Dir das Team von Xperience Tango die Grundlagen des Tango Argentino\, so dass Du bald auf einer der zahlreichen Milongas (Tangobälle) Hamburgs tanzen gehen kannst. Wir arbeiten an Körperhaltung\, Umarmung\, Tanztechnik und Musikalität. Als Basis jeder gemeinsamen Kreativität fokussieren wir den achtsamen Kontakt und die nonverbale Kommunikation mit dem Partner. \nSämtliche Infos über alle unsere Kurse findet Ihr hier: www.xperience-tango.de \nDie aktuellen Angebote für Schnupperkurse findest Du hier: https://www.xperience-tango.de/tango-hamburg-schnupperkurs \nDen geplanten Anfängerkurs findest Du hier: https://www.xperience-tango.de/tango-hamburg-ost \nAnmeldung: info@xperience-tango.de | 0176 23934109\nPreis: Schnupperkurs 15 €  / 10 € erm.) | Fortlaufende Kurse: abhängig von der Teilnehmerzahl. Bei mind. 7 Paaren: 15€/Einheit
URL:https://dev.zinnschmelze.de/event/tango-argentino-mit-xperience-tango/2028-02-29/
LOCATION:Zinnschmelze\, Maurienstr. 19\, Barmbek\, Hamburg\, 22305\, Germany
CATEGORIES:Bewegung & Gesundheit (Erwachsenenkurs),Musik (Erwachsenenkurs),Tanz (Erwachsenenkurs)
ATTACH;FMTTYPE=image/jpeg:https://dev.zinnschmelze.de/wp-content/uploads/2023/06/LOGO-Xperience-Tango.jpg
ORGANIZER;CN="Xperience Tango":MAILTO:info@xperience-tango.de
END:VEVENT
END:VCALENDAR