BEGIN:VCALENDAR
VERSION:2.0
PRODID:-//Zinnschmelze - ECPv6.15.20//NONSGML v1.0//EN
CALSCALE:GREGORIAN
METHOD:PUBLISH
X-WR-CALNAME:Zinnschmelze
X-ORIGINAL-URL:https://dev.zinnschmelze.de
X-WR-CALDESC:Veranstaltungen für Zinnschmelze
REFRESH-INTERVAL;VALUE=DURATION:PT1H
X-Robots-Tag:noindex
X-PUBLISHED-TTL:PT1H
BEGIN:VTIMEZONE
TZID:Europe/Berlin
BEGIN:DAYLIGHT
TZOFFSETFROM:+0100
TZOFFSETTO:+0200
TZNAME:CEST
DTSTART:20280326T010000
END:DAYLIGHT
BEGIN:STANDARD
TZOFFSETFROM:+0200
TZOFFSETTO:+0100
TZNAME:CET
DTSTART:20281029T010000
END:STANDARD
BEGIN:DAYLIGHT
TZOFFSETFROM:+0100
TZOFFSETTO:+0200
TZNAME:CEST
DTSTART:20290325T010000
END:DAYLIGHT
BEGIN:STANDARD
TZOFFSETFROM:+0200
TZOFFSETTO:+0100
TZNAME:CET
DTSTART:20291028T010000
END:STANDARD
BEGIN:DAYLIGHT
TZOFFSETFROM:+0100
TZOFFSETTO:+0200
TZNAME:CEST
DTSTART:20300331T010000
END:DAYLIGHT
BEGIN:STANDARD
TZOFFSETFROM:+0200
TZOFFSETTO:+0100
TZNAME:CET
DTSTART:20301027T010000
END:STANDARD
END:VTIMEZONE
BEGIN:VEVENT
DTSTART;TZID=Europe/Berlin:20290102T191500
DTEND;TZID=Europe/Berlin:20290102T220000
DTSTAMP:20260425T134317
CREATED:20230621T144919Z
LAST-MODIFIED:20230825T155941Z
UID:10008246-1862075700-1862085600@dev.zinnschmelze.de
SUMMARY:Tango argentino - mit Xperience Tango
DESCRIPTION:LOGO Xperience Tango \nDu wolltest schon immer einmal Tango Argentino ausprobieren? Gemeinsam mit einem Partner oder auch alleine?\nMit Spaß und Leichtigkeit vermittelt Dir das Team von Xperience Tango die Grundlagen des Tango Argentino\, so dass Du bald auf einer der zahlreichen Milongas (Tangobälle) Hamburgs tanzen gehen kannst. Wir arbeiten an Körperhaltung\, Umarmung\, Tanztechnik und Musikalität. Als Basis jeder gemeinsamen Kreativität fokussieren wir den achtsamen Kontakt und die nonverbale Kommunikation mit dem Partner. \nSämtliche Infos über alle unsere Kurse findet Ihr hier: www.xperience-tango.de \nDie aktuellen Angebote für Schnupperkurse findest Du hier: https://www.xperience-tango.de/tango-hamburg-schnupperkurs \nDen geplanten Anfängerkurs findest Du hier: https://www.xperience-tango.de/tango-hamburg-ost \nAnmeldung: info@xperience-tango.de | 0176 23934109\nPreis: Schnupperkurs 15 €  / 10 € erm.) | Fortlaufende Kurse: abhängig von der Teilnehmerzahl. Bei mind. 7 Paaren: 15€/Einheit
URL:https://dev.zinnschmelze.de/event/tango-argentino-mit-xperience-tango/2029-01-02/
LOCATION:Zinnschmelze\, Maurienstr. 19\, Barmbek\, Hamburg\, 22305\, Germany
CATEGORIES:Bewegung & Gesundheit (Erwachsenenkurs),Musik (Erwachsenenkurs),Tanz (Erwachsenenkurs)
ATTACH;FMTTYPE=image/jpeg:https://dev.zinnschmelze.de/wp-content/uploads/2023/06/LOGO-Xperience-Tango.jpg
ORGANIZER;CN="Xperience Tango":MAILTO:info@xperience-tango.de
END:VEVENT
BEGIN:VEVENT
DTSTART;TZID=Europe/Berlin:20290109T191500
DTEND;TZID=Europe/Berlin:20290109T220000
DTSTAMP:20260425T134317
CREATED:20230621T144919Z
LAST-MODIFIED:20230825T155941Z
UID:10008247-1862680500-1862690400@dev.zinnschmelze.de
SUMMARY:Tango argentino - mit Xperience Tango
DESCRIPTION:LOGO Xperience Tango \nDu wolltest schon immer einmal Tango Argentino ausprobieren? Gemeinsam mit einem Partner oder auch alleine?\nMit Spaß und Leichtigkeit vermittelt Dir das Team von Xperience Tango die Grundlagen des Tango Argentino\, so dass Du bald auf einer der zahlreichen Milongas (Tangobälle) Hamburgs tanzen gehen kannst. Wir arbeiten an Körperhaltung\, Umarmung\, Tanztechnik und Musikalität. Als Basis jeder gemeinsamen Kreativität fokussieren wir den achtsamen Kontakt und die nonverbale Kommunikation mit dem Partner. \nSämtliche Infos über alle unsere Kurse findet Ihr hier: www.xperience-tango.de \nDie aktuellen Angebote für Schnupperkurse findest Du hier: https://www.xperience-tango.de/tango-hamburg-schnupperkurs \nDen geplanten Anfängerkurs findest Du hier: https://www.xperience-tango.de/tango-hamburg-ost \nAnmeldung: info@xperience-tango.de | 0176 23934109\nPreis: Schnupperkurs 15 €  / 10 € erm.) | Fortlaufende Kurse: abhängig von der Teilnehmerzahl. Bei mind. 7 Paaren: 15€/Einheit
URL:https://dev.zinnschmelze.de/event/tango-argentino-mit-xperience-tango/2029-01-09/
LOCATION:Zinnschmelze\, Maurienstr. 19\, Barmbek\, Hamburg\, 22305\, Germany
CATEGORIES:Bewegung & Gesundheit (Erwachsenenkurs),Musik (Erwachsenenkurs),Tanz (Erwachsenenkurs)
ATTACH;FMTTYPE=image/jpeg:https://dev.zinnschmelze.de/wp-content/uploads/2023/06/LOGO-Xperience-Tango.jpg
ORGANIZER;CN="Xperience Tango":MAILTO:info@xperience-tango.de
END:VEVENT
BEGIN:VEVENT
DTSTART;TZID=Europe/Berlin:20290116T191500
DTEND;TZID=Europe/Berlin:20290116T220000
DTSTAMP:20260425T134317
CREATED:20230621T144919Z
LAST-MODIFIED:20230825T155941Z
UID:10008248-1863285300-1863295200@dev.zinnschmelze.de
SUMMARY:Tango argentino - mit Xperience Tango
DESCRIPTION:LOGO Xperience Tango \nDu wolltest schon immer einmal Tango Argentino ausprobieren? Gemeinsam mit einem Partner oder auch alleine?\nMit Spaß und Leichtigkeit vermittelt Dir das Team von Xperience Tango die Grundlagen des Tango Argentino\, so dass Du bald auf einer der zahlreichen Milongas (Tangobälle) Hamburgs tanzen gehen kannst. Wir arbeiten an Körperhaltung\, Umarmung\, Tanztechnik und Musikalität. Als Basis jeder gemeinsamen Kreativität fokussieren wir den achtsamen Kontakt und die nonverbale Kommunikation mit dem Partner. \nSämtliche Infos über alle unsere Kurse findet Ihr hier: www.xperience-tango.de \nDie aktuellen Angebote für Schnupperkurse findest Du hier: https://www.xperience-tango.de/tango-hamburg-schnupperkurs \nDen geplanten Anfängerkurs findest Du hier: https://www.xperience-tango.de/tango-hamburg-ost \nAnmeldung: info@xperience-tango.de | 0176 23934109\nPreis: Schnupperkurs 15 €  / 10 € erm.) | Fortlaufende Kurse: abhängig von der Teilnehmerzahl. Bei mind. 7 Paaren: 15€/Einheit
URL:https://dev.zinnschmelze.de/event/tango-argentino-mit-xperience-tango/2029-01-16/
LOCATION:Zinnschmelze\, Maurienstr. 19\, Barmbek\, Hamburg\, 22305\, Germany
CATEGORIES:Bewegung & Gesundheit (Erwachsenenkurs),Musik (Erwachsenenkurs),Tanz (Erwachsenenkurs)
ATTACH;FMTTYPE=image/jpeg:https://dev.zinnschmelze.de/wp-content/uploads/2023/06/LOGO-Xperience-Tango.jpg
ORGANIZER;CN="Xperience Tango":MAILTO:info@xperience-tango.de
END:VEVENT
BEGIN:VEVENT
DTSTART;TZID=Europe/Berlin:20290123T191500
DTEND;TZID=Europe/Berlin:20290123T220000
DTSTAMP:20260425T134317
CREATED:20230621T144919Z
LAST-MODIFIED:20230825T155941Z
UID:10008249-1863890100-1863900000@dev.zinnschmelze.de
SUMMARY:Tango argentino - mit Xperience Tango
DESCRIPTION:LOGO Xperience Tango \nDu wolltest schon immer einmal Tango Argentino ausprobieren? Gemeinsam mit einem Partner oder auch alleine?\nMit Spaß und Leichtigkeit vermittelt Dir das Team von Xperience Tango die Grundlagen des Tango Argentino\, so dass Du bald auf einer der zahlreichen Milongas (Tangobälle) Hamburgs tanzen gehen kannst. Wir arbeiten an Körperhaltung\, Umarmung\, Tanztechnik und Musikalität. Als Basis jeder gemeinsamen Kreativität fokussieren wir den achtsamen Kontakt und die nonverbale Kommunikation mit dem Partner. \nSämtliche Infos über alle unsere Kurse findet Ihr hier: www.xperience-tango.de \nDie aktuellen Angebote für Schnupperkurse findest Du hier: https://www.xperience-tango.de/tango-hamburg-schnupperkurs \nDen geplanten Anfängerkurs findest Du hier: https://www.xperience-tango.de/tango-hamburg-ost \nAnmeldung: info@xperience-tango.de | 0176 23934109\nPreis: Schnupperkurs 15 €  / 10 € erm.) | Fortlaufende Kurse: abhängig von der Teilnehmerzahl. Bei mind. 7 Paaren: 15€/Einheit
URL:https://dev.zinnschmelze.de/event/tango-argentino-mit-xperience-tango/2029-01-23/
LOCATION:Zinnschmelze\, Maurienstr. 19\, Barmbek\, Hamburg\, 22305\, Germany
CATEGORIES:Bewegung & Gesundheit (Erwachsenenkurs),Musik (Erwachsenenkurs),Tanz (Erwachsenenkurs)
ATTACH;FMTTYPE=image/jpeg:https://dev.zinnschmelze.de/wp-content/uploads/2023/06/LOGO-Xperience-Tango.jpg
ORGANIZER;CN="Xperience Tango":MAILTO:info@xperience-tango.de
END:VEVENT
BEGIN:VEVENT
DTSTART;TZID=Europe/Berlin:20290130T191500
DTEND;TZID=Europe/Berlin:20290130T220000
DTSTAMP:20260425T134317
CREATED:20230621T144919Z
LAST-MODIFIED:20230825T155941Z
UID:10008250-1864494900-1864504800@dev.zinnschmelze.de
SUMMARY:Tango argentino - mit Xperience Tango
DESCRIPTION:LOGO Xperience Tango \nDu wolltest schon immer einmal Tango Argentino ausprobieren? Gemeinsam mit einem Partner oder auch alleine?\nMit Spaß und Leichtigkeit vermittelt Dir das Team von Xperience Tango die Grundlagen des Tango Argentino\, so dass Du bald auf einer der zahlreichen Milongas (Tangobälle) Hamburgs tanzen gehen kannst. Wir arbeiten an Körperhaltung\, Umarmung\, Tanztechnik und Musikalität. Als Basis jeder gemeinsamen Kreativität fokussieren wir den achtsamen Kontakt und die nonverbale Kommunikation mit dem Partner. \nSämtliche Infos über alle unsere Kurse findet Ihr hier: www.xperience-tango.de \nDie aktuellen Angebote für Schnupperkurse findest Du hier: https://www.xperience-tango.de/tango-hamburg-schnupperkurs \nDen geplanten Anfängerkurs findest Du hier: https://www.xperience-tango.de/tango-hamburg-ost \nAnmeldung: info@xperience-tango.de | 0176 23934109\nPreis: Schnupperkurs 15 €  / 10 € erm.) | Fortlaufende Kurse: abhängig von der Teilnehmerzahl. Bei mind. 7 Paaren: 15€/Einheit
URL:https://dev.zinnschmelze.de/event/tango-argentino-mit-xperience-tango/2029-01-30/
LOCATION:Zinnschmelze\, Maurienstr. 19\, Barmbek\, Hamburg\, 22305\, Germany
CATEGORIES:Bewegung & Gesundheit (Erwachsenenkurs),Musik (Erwachsenenkurs),Tanz (Erwachsenenkurs)
ATTACH;FMTTYPE=image/jpeg:https://dev.zinnschmelze.de/wp-content/uploads/2023/06/LOGO-Xperience-Tango.jpg
ORGANIZER;CN="Xperience Tango":MAILTO:info@xperience-tango.de
END:VEVENT
END:VCALENDAR